BEGIN:VCALENDAR
VERSION:2.0
PRODID:-//Freie Szene Düsseldorf - ECPv6.15.17.1//NONSGML v1.0//EN
CALSCALE:GREGORIAN
METHOD:PUBLISH
X-ORIGINAL-URL:https://www.freieszene.de
X-WR-CALDESC:Veranstaltungen für Freie Szene Düsseldorf
REFRESH-INTERVAL;VALUE=DURATION:PT1H
X-Robots-Tag:noindex
X-PUBLISHED-TTL:PT1H
BEGIN:VTIMEZONE
TZID:Europe/Berlin
BEGIN:DAYLIGHT
TZOFFSETFROM:+0100
TZOFFSETTO:+0200
TZNAME:CEST
DTSTART:20200329T010000
END:DAYLIGHT
BEGIN:STANDARD
TZOFFSETFROM:+0200
TZOFFSETTO:+0100
TZNAME:CET
DTSTART:20201025T010000
END:STANDARD
BEGIN:DAYLIGHT
TZOFFSETFROM:+0100
TZOFFSETTO:+0200
TZNAME:CEST
DTSTART:20210328T010000
END:DAYLIGHT
BEGIN:STANDARD
TZOFFSETFROM:+0200
TZOFFSETTO:+0100
TZNAME:CET
DTSTART:20211031T010000
END:STANDARD
BEGIN:DAYLIGHT
TZOFFSETFROM:+0100
TZOFFSETTO:+0200
TZNAME:CEST
DTSTART:20220327T010000
END:DAYLIGHT
BEGIN:STANDARD
TZOFFSETFROM:+0200
TZOFFSETTO:+0100
TZNAME:CET
DTSTART:20221030T010000
END:STANDARD
END:VTIMEZONE
BEGIN:VEVENT
DTSTART;TZID=Europe/Berlin:20210707T170000
DTEND;TZID=Europe/Berlin:20210707T180000
DTSTAMP:20260423T125604
CREATED:20210622T075617Z
LAST-MODIFIED:20210622T075617Z
UID:10004371-1625677200-1625680800@www.freieszene.de
SUMMARY:Die drei Räuber
DESCRIPTION:Foto: Peter Kirzkowski \nNacht für Nacht überfallen die drei Räuber Kutschen und schleppen die Beute in ihre Höhle. Als sie auf einem ihrer Raubzüge das Waisenmädchen Tiffany entführen\, gerät ihr Leben ganz schön durcheinander. Denn Tiffany stellt Fragen\, Fragen über die sich die Räuber noch nie Gedanken gemacht haben…\ntheater fayoum und Maik Evers verwandeln die Räuberbande in eine Rockband und ein altes Sofa in die Spielfläche für all die geheimnisvollen Orte der Geschichte. Mit ungestümem Witz ergaunert sich diese Mischung aus Erzähltheater\, Figurenspiel und Konzert die Bühne. Ein schräger Räuberspaß\, der nicht zuletzt Fragen nach sozialer Ungleichheit und dem Wert von Geld aufwirft. \nCredits:\nIdee & Konzeption: theater fayoum und Maik Evers. Spiel: Tina El-Fayoumy\, Maik Evers\, Benjamin Garcia\, Oliver S. El-Fayoumy. Musikalische Leitung: Benjamin Garcia. Figurenbau / Bühne: Maik Evers. Kostüm: Sonja Waldecker. Dramaturgie / Endregie: René Linke. Szenische Entwicklung: Tina El-Fayoumy. Assistenz: Nadine Bachem. Produktionsleitung: Oliver S. El- Fayoumy. Produktion: theater fayoum\, Maik Evers. Koproduktion: FFT Düsseldorf\, FITZ Stuttgart. Aufführungsrechte: Diogenes Verlag Zürich. Gefördert durch den Landesverband Freier Theater Baden- Württemberg e.V. aus Mitteln des Ministeriums für Wissenschaft\, Forschung und Kunst des Landes Baden-Württemberg\, das NRW Landesbüro Freie Kultur mit Mitteln des Ministerpräsidenten des Landes NRW und das Kulturamt der Landeshauptstadt Düsseldorf.
URL:https://www.freieszene.de/event/die-drei-raeuber-8/2021-07-07/2/
LOCATION:Hörspielsommer\, Karl-Heine-Str. 27\, Leipzig\, Sachsen\, 04229\, Deutschland
CATEGORIES:Theater
ATTACH;FMTTYPE=image/jpeg:https://www.freieszene.de/wp-content/uploads/Die-Raeuber.jpg
ORGANIZER;CN="theater fayoum und Maik Evers":MAILTO:mail@theateroase.de
END:VEVENT
BEGIN:VEVENT
DTSTART;TZID=Europe/Berlin:20210707T093000
DTEND;TZID=Europe/Berlin:20210707T103000
DTSTAMP:20260423T125604
CREATED:20210622T075617Z
LAST-MODIFIED:20210622T075617Z
UID:10004370-1625650200-1625653800@www.freieszene.de
SUMMARY:Die drei Räuber
DESCRIPTION:Foto: Peter Kirzkowski \nNacht für Nacht überfallen die drei Räuber Kutschen und schleppen die Beute in ihre Höhle. Als sie auf einem ihrer Raubzüge das Waisenmädchen Tiffany entführen\, gerät ihr Leben ganz schön durcheinander. Denn Tiffany stellt Fragen\, Fragen über die sich die Räuber noch nie Gedanken gemacht haben…\ntheater fayoum und Maik Evers verwandeln die Räuberbande in eine Rockband und ein altes Sofa in die Spielfläche für all die geheimnisvollen Orte der Geschichte. Mit ungestümem Witz ergaunert sich diese Mischung aus Erzähltheater\, Figurenspiel und Konzert die Bühne. Ein schräger Räuberspaß\, der nicht zuletzt Fragen nach sozialer Ungleichheit und dem Wert von Geld aufwirft. \nCredits:\nIdee & Konzeption: theater fayoum und Maik Evers. Spiel: Tina El-Fayoumy\, Maik Evers\, Benjamin Garcia\, Oliver S. El-Fayoumy. Musikalische Leitung: Benjamin Garcia. Figurenbau / Bühne: Maik Evers. Kostüm: Sonja Waldecker. Dramaturgie / Endregie: René Linke. Szenische Entwicklung: Tina El-Fayoumy. Assistenz: Nadine Bachem. Produktionsleitung: Oliver S. El- Fayoumy. Produktion: theater fayoum\, Maik Evers. Koproduktion: FFT Düsseldorf\, FITZ Stuttgart. Aufführungsrechte: Diogenes Verlag Zürich. Gefördert durch den Landesverband Freier Theater Baden- Württemberg e.V. aus Mitteln des Ministeriums für Wissenschaft\, Forschung und Kunst des Landes Baden-Württemberg\, das NRW Landesbüro Freie Kultur mit Mitteln des Ministerpräsidenten des Landes NRW und das Kulturamt der Landeshauptstadt Düsseldorf.
URL:https://www.freieszene.de/event/die-drei-raeuber-8/2021-07-07/1/
LOCATION:Hörspielsommer\, Karl-Heine-Str. 27\, Leipzig\, Sachsen\, 04229\, Deutschland
CATEGORIES:Theater
ATTACH;FMTTYPE=image/jpeg:https://www.freieszene.de/wp-content/uploads/Die-Raeuber.jpg
ORGANIZER;CN="theater fayoum und Maik Evers":MAILTO:mail@theateroase.de
END:VEVENT
END:VCALENDAR